BEGIN:VCALENDAR
VERSION:2.0
PRODID:-//一般社団法人KOTOWARI - ECPv6.3.3.1//NONSGML v1.0//EN
CALSCALE:GREGORIAN
METHOD:PUBLISH
X-WR-CALNAME:一般社団法人KOTOWARI
X-ORIGINAL-URL:https://kotowari.co
X-WR-CALDESC:一般社団法人KOTOWARI のイベント
REFRESH-INTERVAL;VALUE=DURATION:PT1H
X-Robots-Tag:noindex
X-PUBLISHED-TTL:PT1H
BEGIN:VTIMEZONE
TZID:UTC
BEGIN:STANDARD
TZOFFSETFROM:+0000
TZOFFSETTO:+0000
TZNAME:UTC
DTSTART:20220101T000000
END:STANDARD
END:VTIMEZONE
BEGIN:VEVENT
DTSTART;VALUE=DATE:20221106
DTEND;VALUE=DATE:20230206
DTSTAMP:20260419T142451
CREATED:20221127T070921Z
LAST-MODIFIED:20230520T175150Z
UID:5608-1667692800-1675641599@kotowari.co
SUMMARY:Winter Fellowship 2022-2023
DESCRIPTION:2022年11月よりKOTOWARI Fellowship 2022がはじまりました。昨年と今年のサマースクール参加者の中でフェローを選び、サマースクールでの学びを、各々の日常生活の中で深めていくことを目標とした長期プログラムです。4ヶ月間のオンラインプログラムが毎週末に実施され、来年1月には会津山村道場での3泊4日の合宿プログラムも行い、来年2月に最終課題に取り組む予定です。ホームページにて、プログラムの様子やフェローの振り返りなどを公開をしてまいりますので、ご覧ください。 \nKOTOWARI フェローシップの参加者によるレポートはこちらからご覧いただけます。
URL:https://kotowari.co/event/kotowari-fellowship%e3%81%ae%e9%96%8b%e5%a7%8b/
CATEGORIES:Dharma,Meditation Events
ATTACH;FMTTYPE=image/jpeg:https://kotowari.co/wp-content/uploads/2019/03/content_12d91f5f3cc3a623d8624c9f014ea9e2fbe95a88-e1669543747493.jpeg
END:VEVENT
END:VCALENDAR